BEGIN:VCALENDAR
VERSION:2.0
PRODID:-//Uzima Women Relief Group International - ECPv6.15.20//NONSGML v1.0//EN
CALSCALE:GREGORIAN
METHOD:PUBLISH
X-WR-CALNAME:Uzima Women Relief Group International
X-ORIGINAL-URL:https://uzimawomeninternational.org
X-WR-CALDESC:Events for Uzima Women Relief Group International
REFRESH-INTERVAL;VALUE=DURATION:PT1H
X-Robots-Tag:noindex
X-PUBLISHED-TTL:PT1H
BEGIN:VTIMEZONE
TZID:UTC
BEGIN:STANDARD
TZOFFSETFROM:+0000
TZOFFSETTO:+0000
TZNAME:UTC
DTSTART:20220101T000000
END:STANDARD
END:VTIMEZONE
BEGIN:VEVENT
DTSTART;VALUE=DATE:20230801
DTEND;VALUE=DATE:20230901
DTSTAMP:20260423T115925
CREATED:20230816T200934Z
LAST-MODIFIED:20230828T161024Z
UID:1226-1690848000-1693526399@uzimawomeninternational.org
SUMMARY:Emancipation Month
DESCRIPTION:
URL:https://uzimawomeninternational.org/event/emancipation-month/
END:VEVENT
BEGIN:VEVENT
DTSTART;VALUE=DATE:20230807
DTEND;VALUE=DATE:20230808
DTSTAMP:20260423T115925
CREATED:20230808T005023Z
LAST-MODIFIED:20230808T005023Z
UID:1112-1691366400-1691452799@uzimawomeninternational.org
SUMMARY:Civic Holiday
DESCRIPTION:
URL:https://uzimawomeninternational.org/event/civic-holiday/
END:VEVENT
BEGIN:VEVENT
DTSTART;VALUE=DATE:20230807
DTEND;VALUE=DATE:20230808
DTSTAMP:20260423T115925
CREATED:20230808T005158Z
LAST-MODIFIED:20230808T005229Z
UID:1116-1691366400-1691452799@uzimawomeninternational.org
SUMMARY:Terry Fox
DESCRIPTION:
URL:https://uzimawomeninternational.org/event/terry-fox/
END:VEVENT
END:VCALENDAR