BEGIN:VCALENDAR
VERSION:2.0
PRODID:-//Uzima Women Relief Group International - ECPv6.15.20//NONSGML v1.0//EN
CALSCALE:GREGORIAN
METHOD:PUBLISH
X-WR-CALNAME:Uzima Women Relief Group International
X-ORIGINAL-URL:https://uzimawomeninternational.org
X-WR-CALDESC:Events for Uzima Women Relief Group International
REFRESH-INTERVAL;VALUE=DURATION:PT1H
X-Robots-Tag:noindex
X-PUBLISHED-TTL:PT1H
BEGIN:VTIMEZONE
TZID:UTC
BEGIN:STANDARD
TZOFFSETFROM:+0000
TZOFFSETTO:+0000
TZNAME:UTC
DTSTART:20220101T000000
END:STANDARD
END:VTIMEZONE
BEGIN:VEVENT
DTSTART;VALUE=DATE:20230801
DTEND;VALUE=DATE:20230901
DTSTAMP:20260423T211044
CREATED:20230816T200934Z
LAST-MODIFIED:20230828T161024Z
UID:1226-1690848000-1693526399@uzimawomeninternational.org
SUMMARY:Emancipation Month
DESCRIPTION:
URL:https://uzimawomeninternational.org/event/emancipation-month/
END:VEVENT
BEGIN:VEVENT
DTSTART;TZID=UTC:20230828T080000
DTEND;TZID=UTC:20230828T170000
DTSTAMP:20260423T211044
CREATED:20230828T153215Z
LAST-MODIFIED:20230828T153215Z
UID:1251-1693209600-1693242000@uzimawomeninternational.org
SUMMARY:Art therapy
DESCRIPTION:
URL:https://uzimawomeninternational.org/event/art-therapy/
END:VEVENT
END:VCALENDAR