BEGIN:VCALENDAR
VERSION:2.0
PRODID:-//Uzima Women Relief Group International - ECPv6.15.20//NONSGML v1.0//EN
CALSCALE:GREGORIAN
METHOD:PUBLISH
X-WR-CALNAME:Uzima Women Relief Group International
X-ORIGINAL-URL:https://uzimawomeninternational.org
X-WR-CALDESC:Events for Uzima Women Relief Group International
REFRESH-INTERVAL;VALUE=DURATION:PT1H
X-Robots-Tag:noindex
X-PUBLISHED-TTL:PT1H
BEGIN:VTIMEZONE
TZID:UTC
BEGIN:STANDARD
TZOFFSETFROM:+0000
TZOFFSETTO:+0000
TZNAME:UTC
DTSTART:20220101T000000
END:STANDARD
END:VTIMEZONE
BEGIN:VEVENT
DTSTART;VALUE=DATE:20230917
DTEND;VALUE=DATE:20230924
DTSTAMP:20260423T085425
CREATED:20230919T174646Z
LAST-MODIFIED:20230919T174646Z
UID:1529-1694908800-1695513599@uzimawomeninternational.org
SUMMARY:Gender Equality
DESCRIPTION:
URL:https://uzimawomeninternational.org/event/gender-equality/
END:VEVENT
BEGIN:VEVENT
DTSTART;TZID=UTC:20230920T140000
DTEND;TZID=UTC:20230920T150000
DTSTAMP:20260423T085425
CREATED:20230925T135049Z
LAST-MODIFIED:20230925T135101Z
UID:1546-1695218400-1695222000@uzimawomeninternational.org
SUMMARY:Senior Workshop: Indigenous  Truth and Reconciliation Workshop
DESCRIPTION:
URL:https://uzimawomeninternational.org/event/senior-workshop-indigenous-truth-and-reconciliation-workshop/
END:VEVENT
END:VCALENDAR