BEGIN:VCALENDAR
VERSION:2.0
PRODID:-//Uzima Women Relief Group International - ECPv6.15.20//NONSGML v1.0//EN
CALSCALE:GREGORIAN
METHOD:PUBLISH
X-WR-CALNAME:Uzima Women Relief Group International
X-ORIGINAL-URL:https://uzimawomeninternational.org
X-WR-CALDESC:Events for Uzima Women Relief Group International
REFRESH-INTERVAL;VALUE=DURATION:PT1H
X-Robots-Tag:noindex
X-PUBLISHED-TTL:PT1H
BEGIN:VTIMEZONE
TZID:UTC
BEGIN:STANDARD
TZOFFSETFROM:+0000
TZOFFSETTO:+0000
TZNAME:UTC
DTSTART:20220101T000000
END:STANDARD
END:VTIMEZONE
BEGIN:VEVENT
DTSTART;VALUE=DATE:20230928
DTEND;VALUE=DATE:20230929
DTSTAMP:20260423T072351
CREATED:20230901T202253Z
LAST-MODIFIED:20230901T202253Z
UID:1452-1695859200-1695945599@uzimawomeninternational.org
SUMMARY:Tropicana's Growing Beyond Grassroots
DESCRIPTION:Learning\, Networking\, and Leadership a Community Service Conference will be held on September  28 & 29\, in Toronto as part of our Supporting Black Canadian Communities Initiative (SBCCI) program.
URL:https://uzimawomeninternational.org/event/tropicanas-growing-beyond-grassroots/
END:VEVENT
BEGIN:VEVENT
DTSTART;VALUE=DATE:20230928
DTEND;VALUE=DATE:20230930
DTSTAMP:20260423T072351
CREATED:20230917T183250Z
LAST-MODIFIED:20230917T183250Z
UID:1503-1695859200-1696031999@uzimawomeninternational.org
SUMMARY:Tropicana's Growing Beyond Grassroots: Learning\, Networking\, and Leadership a community Services Conference
DESCRIPTION:Please join our partner event\, which is designed to support the Black Canadian Communities Initiative (SBCCI).
URL:https://uzimawomeninternational.org/event/tropicanas-growing-beyond-grassroots-learning-networking-and-leadership-a-community-services-conference/
END:VEVENT
END:VCALENDAR