BEGIN:VCALENDAR
VERSION:2.0
PRODID:-//Uzima Women Relief Group International - ECPv6.15.17.1//NONSGML v1.0//EN
CALSCALE:GREGORIAN
METHOD:PUBLISH
X-WR-CALNAME:Uzima Women Relief Group International
X-ORIGINAL-URL:https://uzimawomeninternational.org
X-WR-CALDESC:Events for Uzima Women Relief Group International
REFRESH-INTERVAL;VALUE=DURATION:PT1H
X-Robots-Tag:noindex
X-PUBLISHED-TTL:PT1H
BEGIN:VTIMEZONE
TZID:UTC
BEGIN:STANDARD
TZOFFSETFROM:+0000
TZOFFSETTO:+0000
TZNAME:UTC
DTSTART:20220101T000000
END:STANDARD
END:VTIMEZONE
BEGIN:VEVENT
DTSTART;VALUE=DATE:20231012
DTEND;VALUE=DATE:20231013
DTSTAMP:20260422T101857
CREATED:20231013T035014Z
LAST-MODIFIED:20231013T035014Z
UID:1623-1697068800-1697155199@uzimawomeninternational.org
SUMMARY:World Arthritis Day
DESCRIPTION:
URL:https://uzimawomeninternational.org/event/world-arthritis-day/
END:VEVENT
BEGIN:VEVENT
DTSTART;TZID=UTC:20231012T100000
DTEND;TZID=UTC:20231012T110000
DTSTAMP:20260422T101857
CREATED:20231013T034405Z
LAST-MODIFIED:20231013T034405Z
UID:1617-1697104800-1697108400@uzimawomeninternational.org
SUMMARY:The Housing Puzzle: Creating & Conserving Affordable\, Sustainable Homes By Toronto Region Board of Trade
DESCRIPTION:
URL:https://uzimawomeninternational.org/event/the-housing-puzzle-creating-conserving-affordable-sustainable-homes-by-toronto-region-board-of-trade/
END:VEVENT
END:VCALENDAR