BEGIN:VCALENDAR
VERSION:2.0
PRODID:-//Uzima Women Relief Group International - ECPv6.15.17.1//NONSGML v1.0//EN
CALSCALE:GREGORIAN
METHOD:PUBLISH
X-WR-CALNAME:Uzima Women Relief Group International
X-ORIGINAL-URL:https://uzimawomeninternational.org
X-WR-CALDESC:Events for Uzima Women Relief Group International
REFRESH-INTERVAL;VALUE=DURATION:PT1H
X-Robots-Tag:noindex
X-PUBLISHED-TTL:PT1H
BEGIN:VTIMEZONE
TZID:UTC
BEGIN:STANDARD
TZOFFSETFROM:+0000
TZOFFSETTO:+0000
TZNAME:UTC
DTSTART:20220101T000000
END:STANDARD
END:VTIMEZONE
BEGIN:VEVENT
DTSTART;TZID=UTC:20231019T073000
DTEND;TZID=UTC:20231019T090000
DTSTAMP:20260422T000617
CREATED:20231013T034516Z
LAST-MODIFIED:20231013T034516Z
UID:1619-1697700600-1697706000@uzimawomeninternational.org
SUMMARY:EV Breakfast Series #2 - Plugging in Together By Toronto Region Board of Trade
DESCRIPTION:
URL:https://uzimawomeninternational.org/event/ev-breakfast-series-2-plugging-in-together-by-toronto-region-board-of-trade/
END:VEVENT
END:VCALENDAR