BEGIN:VCALENDAR
VERSION:2.0
PRODID:-//Uzima Women Relief Group International - ECPv6.15.17.1//NONSGML v1.0//EN
CALSCALE:GREGORIAN
METHOD:PUBLISH
X-ORIGINAL-URL:https://uzimawomeninternational.org
X-WR-CALDESC:Events for Uzima Women Relief Group International
REFRESH-INTERVAL;VALUE=DURATION:PT1H
X-Robots-Tag:noindex
X-PUBLISHED-TTL:PT1H
BEGIN:VTIMEZONE
TZID:UTC
BEGIN:STANDARD
TZOFFSETFROM:+0000
TZOFFSETTO:+0000
TZNAME:UTC
DTSTART:20220101T000000
END:STANDARD
END:VTIMEZONE
BEGIN:VEVENT
DTSTART;TZID=UTC:20231028T110000
DTEND;TZID=UTC:20231028T123000
DTSTAMP:20260421T102045
CREATED:20231031T162032Z
LAST-MODIFIED:20231031T162032Z
UID:1988-1698490800-1698496200@uzimawomeninternational.org
SUMMARY:Microgrant onboarding session 4
DESCRIPTION:
URL:https://uzimawomeninternational.org/event/microgrant-onboarding-session-4/
END:VEVENT
BEGIN:VEVENT
DTSTART;TZID=UTC:20231028T110000
DTEND;TZID=UTC:20231028T160000
DTSTAMP:20260421T102045
CREATED:20231031T160128Z
LAST-MODIFIED:20231031T160128Z
UID:1979-1698490800-1698508800@uzimawomeninternational.org
SUMMARY:Black Community Health Fair
DESCRIPTION:
URL:https://uzimawomeninternational.org/event/black-community-health-fair/
END:VEVENT
END:VCALENDAR