BEGIN:VCALENDAR
VERSION:2.0
PRODID:-//Uzima Women Relief Group International - ECPv6.15.17.1//NONSGML v1.0//EN
CALSCALE:GREGORIAN
METHOD:PUBLISH
X-ORIGINAL-URL:https://uzimawomeninternational.org
X-WR-CALDESC:Events for Uzima Women Relief Group International
REFRESH-INTERVAL;VALUE=DURATION:PT1H
X-Robots-Tag:noindex
X-PUBLISHED-TTL:PT1H
BEGIN:VTIMEZONE
TZID:UTC
BEGIN:STANDARD
TZOFFSETFROM:+0000
TZOFFSETTO:+0000
TZNAME:UTC
DTSTART:20230101T000000
END:STANDARD
END:VTIMEZONE
BEGIN:VEVENT
DTSTART;TZID=UTC:20240229T170000
DTEND;TZID=UTC:20240229T220000
DTSTAMP:20260422T145619
CREATED:20240116T160216Z
LAST-MODIFIED:20240116T160216Z
UID:2159-1709226000-1709244000@uzimawomeninternational.org
SUMMARY:Annual Dinner 2024: Dare to Lead by our partner TRBOT
DESCRIPTION:for more information: \nhttps://bot.com/Events/Annual-Dinner-2024
URL:https://uzimawomeninternational.org/event/annual-dinner-2024-dare-to-lead-by-our-partner-trbot/
END:VEVENT
END:VCALENDAR