BEGIN:VCALENDAR
VERSION:2.0
PRODID:-//Uzima Women Relief Group International - ECPv6.15.20//NONSGML v1.0//EN
CALSCALE:GREGORIAN
METHOD:PUBLISH
X-WR-CALNAME:Uzima Women Relief Group International
X-ORIGINAL-URL:https://uzimawomeninternational.org
X-WR-CALDESC:Events for Uzima Women Relief Group International
REFRESH-INTERVAL;VALUE=DURATION:PT1H
X-Robots-Tag:noindex
X-PUBLISHED-TTL:PT1H
BEGIN:VTIMEZONE
TZID:UTC
BEGIN:STANDARD
TZOFFSETFROM:+0000
TZOFFSETTO:+0000
TZNAME:UTC
DTSTART:20230101T000000
END:STANDARD
END:VTIMEZONE
BEGIN:VEVENT
DTSTART;TZID=UTC:20240901T090000
DTEND;TZID=UTC:20240901T210000
DTSTAMP:20260423T162449
CREATED:20240901T215316Z
LAST-MODIFIED:20240903T212456Z
UID:3972-1725181200-1725224400@uzimawomeninternational.org
SUMMARY:Uzima Merchandise Shop Pop-Up
DESCRIPTION:Join Uzima Merchandise Shop this weekend at the Scarborough Community Multicultural Festival! 🎉 Discover unique products\, enjoy exclusive deals\, and support a great cause. Don’t miss out! \n🛍️ Aug 30 – Sept 1\n🕙 10 AM – 10 PM\n📍 Thomson Memorial Park
URL:https://uzimawomeninternational.org/event/uzima-merchandise-shop-pop-up-3/
CATEGORIES:Internal Event
ATTACH;FMTTYPE=image/png:https://uzimawomeninternational.org/wp-content/uploads/2024/08/Pop-up.png
END:VEVENT
BEGIN:VEVENT
DTSTART;TZID=UTC:20240913T120000
DTEND;TZID=UTC:20240913T160000
DTSTAMP:20260423T162449
CREATED:20240916T142520Z
LAST-MODIFIED:20240916T142520Z
UID:4268-1726228800-1726243200@uzimawomeninternational.org
SUMMARY:Enhancing Mental Health for Black Seniors
DESCRIPTION:Join us this Friday\, September 13th\, from 12 PM to 4 PM at Taibu Community Centre for an in-person workshop titled ‘Enhancing Mental Health for Black Seniors.’ 🧠✨ \nThis 1-hour workshop is designed to empower Black seniors with knowledge\, tools\, and resources to enhance their mental health and well-being. We’ll address culturally relevant challenges and provide practical strategies to navigate them. Let’s come together\, learn\, and support one another in a safe and welcoming space. \n📅 Date: Friday\, September 13th\n🕛 Time: 12 PM – 4 PM\n📍 Location: Taibu Community Centre
URL:https://uzimawomeninternational.org/event/enhancing-mental-health-for-black-seniors/
CATEGORIES:Internal Event
END:VEVENT
BEGIN:VEVENT
DTSTART;TZID=UTC:20240920T080000
DTEND;TZID=UTC:20240920T170000
DTSTAMP:20260423T162449
CREATED:20240921T215924Z
LAST-MODIFIED:20240921T215937Z
UID:4385-1726819200-1726851600@uzimawomeninternational.org
SUMMARY:Senior's Day Trip to Niagara Falls
DESCRIPTION:
URL:https://uzimawomeninternational.org/event/seniors-day-trip-to-niagara-falls/
CATEGORIES:Internal Event
ATTACH;FMTTYPE=image/jpeg:https://uzimawomeninternational.org/wp-content/uploads/2024/09/Seniors-Day-Trip-to-Niagara-Falls.jpeg
END:VEVENT
END:VCALENDAR