BEGIN:VCALENDAR
VERSION:2.0
PRODID:-//Uzima Women Relief Group International - ECPv6.15.20//NONSGML v1.0//EN
CALSCALE:GREGORIAN
METHOD:PUBLISH
X-ORIGINAL-URL:https://uzimawomeninternational.org
X-WR-CALDESC:Events for Uzima Women Relief Group International
REFRESH-INTERVAL;VALUE=DURATION:PT1H
X-Robots-Tag:noindex
X-PUBLISHED-TTL:PT1H
BEGIN:VTIMEZONE
TZID:UTC
BEGIN:STANDARD
TZOFFSETFROM:+0000
TZOFFSETTO:+0000
TZNAME:UTC
DTSTART:20220101T000000
END:STANDARD
END:VTIMEZONE
BEGIN:VEVENT
DTSTART;VALUE=DATE:20230618
DTEND;VALUE=DATE:20230619
DTSTAMP:20260423T211430
CREATED:20230722T021526Z
LAST-MODIFIED:20230722T021526Z
UID:948-1687046400-1687132799@uzimawomeninternational.org
SUMMARY:Happy Father Day
DESCRIPTION:
URL:https://uzimawomeninternational.org/event/happy-father-day/
END:VEVENT
BEGIN:VEVENT
DTSTART;TZID=UTC:20230620T100000
DTEND;TZID=UTC:20230620T110000
DTSTAMP:20260423T211430
CREATED:20230722T021108Z
LAST-MODIFIED:20230722T021108Z
UID:937-1687255200-1687258800@uzimawomeninternational.org
SUMMARY:Emotional Intelligence
DESCRIPTION:
URL:https://uzimawomeninternational.org/event/emotional-intelligence/
END:VEVENT
BEGIN:VEVENT
DTSTART;TZID=UTC:20230621T030000
DTEND;TZID=UTC:20230621T040000
DTSTAMP:20260423T211430
CREATED:20230722T021406Z
LAST-MODIFIED:20230722T021406Z
UID:945-1687316400-1687320000@uzimawomeninternational.org
SUMMARY:Building Social Interactions
DESCRIPTION:
URL:https://uzimawomeninternational.org/event/building-social-interactions/
END:VEVENT
BEGIN:VEVENT
DTSTART;TZID=UTC:20230621T170000
DTEND;TZID=UTC:20230621T190000
DTSTAMP:20260423T211430
CREATED:20230829T163509Z
LAST-MODIFIED:20230829T163509Z
UID:1363-1687366800-1687374000@uzimawomeninternational.org
SUMMARY:TBOT: Cocktails and Connections 2.0
DESCRIPTION:
URL:https://uzimawomeninternational.org/event/tbot-cocktails-and-connections-2-0/
END:VEVENT
BEGIN:VEVENT
DTSTART;VALUE=DATE:20230624
DTEND;VALUE=DATE:20230626
DTSTAMP:20260423T211430
CREATED:20230829T194813Z
LAST-MODIFIED:20230829T194813Z
UID:1378-1687564800-1687737599@uzimawomeninternational.org
SUMMARY:Heart Lake Run
DESCRIPTION:
URL:https://uzimawomeninternational.org/event/heart-lake-run/
LOCATION:Brampton\, Ontario
END:VEVENT
BEGIN:VEVENT
DTSTART;VALUE=DATE:20230628
DTEND;VALUE=DATE:20230701
DTSTAMP:20260423T211430
CREATED:20230829T160415Z
LAST-MODIFIED:20230829T160415Z
UID:1359-1687910400-1688169599@uzimawomeninternational.org
SUMMARY:Tecasy Ranch Strategic Planning and Team Building Retreat
DESCRIPTION:
URL:https://uzimawomeninternational.org/event/tecasy-ranch-strategic-planning-and-team-building-retreat/
END:VEVENT
END:VCALENDAR