BEGIN:VCALENDAR
VERSION:2.0
PRODID:-//Uzima Women Relief Group International - ECPv6.15.20//NONSGML v1.0//EN
CALSCALE:GREGORIAN
METHOD:PUBLISH
X-WR-CALNAME:Uzima Women Relief Group International
X-ORIGINAL-URL:https://uzimawomeninternational.org
X-WR-CALDESC:Events for Uzima Women Relief Group International
REFRESH-INTERVAL;VALUE=DURATION:PT1H
X-Robots-Tag:noindex
X-PUBLISHED-TTL:PT1H
BEGIN:VTIMEZONE
TZID:UTC
BEGIN:STANDARD
TZOFFSETFROM:+0000
TZOFFSETTO:+0000
TZNAME:UTC
DTSTART:20220101T000000
END:STANDARD
END:VTIMEZONE
BEGIN:VEVENT
DTSTART;TZID=UTC:20230711T110000
DTEND;TZID=UTC:20230711T120000
DTSTAMP:20260423T132533
CREATED:20230725T040256Z
LAST-MODIFIED:20230725T040256Z
UID:959-1689073200-1689076800@uzimawomeninternational.org
SUMMARY:Social Media Training Workshop for Staff
DESCRIPTION:
URL:https://uzimawomeninternational.org/event/social-media-training-workshop-for-staff/
END:VEVENT
BEGIN:VEVENT
DTSTART;TZID=UTC:20230718T110000
DTEND;TZID=UTC:20230718T120000
DTSTAMP:20260423T132533
CREATED:20230718T142841Z
LAST-MODIFIED:20230718T142841Z
UID:831-1689678000-1689681600@uzimawomeninternational.org
SUMMARY:WordPress Website Management Training
DESCRIPTION:WordPress Website Management Training
URL:https://uzimawomeninternational.org/event/wordpress-website-management-training/
END:VEVENT
BEGIN:VEVENT
DTSTART;TZID=UTC:20230722T110000
DTEND;TZID=UTC:20230722T190000
DTSTAMP:20260423T132533
CREATED:20230718T155940Z
LAST-MODIFIED:20230719T003518Z
UID:837-1690023600-1690052400@uzimawomeninternational.org
SUMMARY:Abeingo Community BBQ
DESCRIPTION:Abeingo Canada’s Annual BBQ. There will be 🎶music💃🕺\, food\, excellent people\, vendors (services and goods)\, opportunities to network\, na kadhalika. Lots of parking and TTC bus 🚌#84 plies this route like imelipwa. Don’t let this day pass you uchekwe.
URL:https://uzimawomeninternational.org/event/abeingo-community-bbq/
LOCATION:Northwood park picnic area 1\, 1750 Sheppard Ave W\, North York\, Toronto\, Toronto\, Ontario\, Canada
ORGANIZER;CN="Abeingo Association of Canada":MAILTO:president@abeingocanada.ca
END:VEVENT
BEGIN:VEVENT
DTSTART;TZID=UTC:20230724T120000
DTEND;TZID=UTC:20230724T160000
DTSTAMP:20260423T132533
CREATED:20230720T151346Z
LAST-MODIFIED:20230720T151452Z
UID:858-1690200000-1690214400@uzimawomeninternational.org
SUMMARY:Tropicana Community Services Open House
DESCRIPTION:Open House\nTropicana Community Services is hosting an  Open House 
URL:https://uzimawomeninternational.org/event/tropicana-community-services/
END:VEVENT
BEGIN:VEVENT
DTSTART;TZID=UTC:20230725T110000
DTEND;TZID=UTC:20230725T120000
DTSTAMP:20260423T132533
CREATED:20230808T005911Z
LAST-MODIFIED:20230808T005911Z
UID:1121-1690282800-1690286400@uzimawomeninternational.org
SUMMARY:Photoshop Staff Training
DESCRIPTION:
URL:https://uzimawomeninternational.org/event/photoshop-staff-training/
END:VEVENT
BEGIN:VEVENT
DTSTART;TZID=UTC:20230727T110000
DTEND;TZID=UTC:20230727T140000
DTSTAMP:20260423T132533
CREATED:20230725T040918Z
LAST-MODIFIED:20230725T040918Z
UID:962-1690455600-1690466400@uzimawomeninternational.org
SUMMARY:Senior and Youth Fun Day Conversation Circles
DESCRIPTION:
URL:https://uzimawomeninternational.org/event/senior-and-youth-fun-day-conversation-circles/
LOCATION:27 Tapscott Rd Unit 1\, 27 Tapscott Rd Unit 1\, Ontario\, M1B 4Y7\, Canada
END:VEVENT
BEGIN:VEVENT
DTSTART;TZID=UTC:20230727T110000
DTEND;TZID=UTC:20230727T140000
DTSTAMP:20260423T132533
CREATED:20230830T145450Z
LAST-MODIFIED:20230830T145610Z
UID:1385-1690455600-1690466400@uzimawomeninternational.org
SUMMARY:BMFF Mentorship Program - Senior and Youth Conversation Circles
DESCRIPTION:
URL:https://uzimawomeninternational.org/event/bmff-mentorship-program-senior-and-youth-conversation-circles/
END:VEVENT
BEGIN:VEVENT
DTSTART;VALUE=DATE:20230730
DTEND;VALUE=DATE:20230731
DTSTAMP:20260423T132533
CREATED:20230730T225657Z
LAST-MODIFIED:20230730T225657Z
UID:1016-1690675200-1690761599@uzimawomeninternational.org
SUMMARY:United Nations World Day Against Trafficking In Persons
DESCRIPTION:
URL:https://uzimawomeninternational.org/event/united-nations-world-day-against-trafficking-in-persons/
END:VEVENT
END:VCALENDAR